BEGIN:VCALENDAR
VERSION:2.0
PRODID:icalendar-ruby
CALSCALE:GREGORIAN
METHOD:PUBLISH
BEGIN:VEVENT
DTSTAMP:20260421T111003Z
UID:5-399790@stgeorgeup.org
DTSTART:20260628T170000Z
DTEND:20260628T180000Z
CLASS:PUBLIC
CREATED:20260420T182002
DESCRIPTION:Sunday Worship
LAST-MODIFIED:20260420T182002
LOCATION:
SUMMARY:Sunday Worship
URL;VALUE=URI:https://www.stgeorgeupland.org/events/sunday-worship/2026-06-
 28
END:VEVENT
END:VCALENDAR
