BEGIN:VCALENDAR
VERSION:2.0
PRODID:icalendar-ruby
CALSCALE:GREGORIAN
METHOD:PUBLISH
BEGIN:VEVENT
DTSTAMP:20260421T172924Z
UID:5-400316@stgeorgeup.org
DTSTART:20260726T170000Z
DTEND:20260726T180000Z
CLASS:PUBLIC
CREATED:20260421T080301
DESCRIPTION:Sunday Worship
LAST-MODIFIED:20260421T080301
LOCATION:
SUMMARY:Sunday Worship
URL;VALUE=URI:https://www.stgeorgeupland.org/events/sunday-worship/2026-07-
 26
END:VEVENT
END:VCALENDAR
