BEGIN:VCALENDAR
VERSION:2.0
PRODID:icalendar-ruby
CALSCALE:GREGORIAN
METHOD:PUBLISH
BEGIN:VEVENT
DTSTAMP:20260422T003836Z
UID:5-401103@stgeorgeup.org
DTSTART:20260823T170000Z
DTEND:20260823T180000Z
CLASS:PUBLIC
CREATED:20260421T155743
DESCRIPTION:Sunday Worship
LAST-MODIFIED:20260421T155743
LOCATION:
SUMMARY:Sunday Worship
URL;VALUE=URI:https://www.stgeorgeupland.org/events/sunday-worship/2026-08-
 23
END:VEVENT
END:VCALENDAR
