BEGIN:VCALENDAR
VERSION:2.0
PRODID:icalendar-ruby
CALSCALE:GREGORIAN
METHOD:PUBLISH
BEGIN:VEVENT
DTSTAMP:20260422T171329Z
UID:5-401895@stgeorgeup.org
DTSTART:20261025T170000Z
DTEND:20261025T180000Z
CLASS:PUBLIC
CREATED:20260422T083944
DESCRIPTION:Sunday Worship
LAST-MODIFIED:20260422T083944
LOCATION:
SUMMARY:Sunday Worship
URL;VALUE=URI:https://www.stgeorgeupland.org/events/sunday-worship/2026-10-
 25
END:VEVENT
END:VCALENDAR
