BEGIN:VCALENDAR
VERSION:2.0
PRODID:icalendar-ruby
CALSCALE:GREGORIAN
METHOD:PUBLISH
BEGIN:VEVENT
DTSTAMP:20260422T190100Z
UID:5-402157@stgeorgeup.org
DTSTART:20261101T180000Z
DTEND:20261101T190000Z
CLASS:PUBLIC
CREATED:20260422T113416
DESCRIPTION:Sunday Worship
LAST-MODIFIED:20260422T113416
LOCATION:
SUMMARY:Sunday Worship
URL;VALUE=URI:https://www.stgeorgeupland.org/events/sunday-worship/2026-11-
 01
END:VEVENT
END:VCALENDAR
